Package: annotatr Version: 1.34.0 Command: chmod a+r annotatr -R && E:\biocbuild\bbs-3.21-bioc\R\bin\R.exe CMD build --keep-empty-dirs --no-resave-data annotatr StartedAt: 2025-08-14 17:20:50 -0400 (Thu, 14 Aug 2025) EndedAt: 2025-08-14 17:25:19 -0400 (Thu, 14 Aug 2025) EllapsedTime: 269.0 seconds RetCode: 0 Status: OK PackageFile: annotatr_1.34.0.tar.gz PackageFileSize: 1.992 MiB