Package: annotatr Version: 1.36.0 Command: /home/biocbuild/bbs-3.22-bioc/R/bin/R CMD build --keep-empty-dirs --no-resave-data --md5 annotatr StartedAt: 2025-11-11 16:17:17 -0500 (Tue, 11 Nov 2025) EndedAt: 2025-11-11 16:20:00 -0500 (Tue, 11 Nov 2025) EllapsedTime: 163.2 seconds RetCode: 0 Status: OK PackageFile: annotatr_1.36.0.tar.gz PackageFileSize: 2.655 MiB