Package: annotatr Version: 1.34.0 Command: /home/biocbuild/bbs-3.21-bioc/R/bin/R CMD check --install=check:annotatr.install-out.txt --library=/home/biocbuild/bbs-3.21-bioc/R/site-library --timings annotatr_1.34.0.tar.gz StartedAt: 2025-10-15 20:47:23 -0400 (Wed, 15 Oct 2025) EndedAt: 2025-10-15 20:54:14 -0400 (Wed, 15 Oct 2025) EllapsedTime: 410.8 seconds RetCode: 1 Status: ERROR CheckDir: annotatr.Rcheck Warnings: NA