Package: annotatr Version: 1.34.0 Command: /home/biocbuild/R/R/bin/R CMD check --install=check:annotatr.install-out.txt --library=/home/biocbuild/R/R/site-library --no-vignettes --timings annotatr_1.34.0.tar.gz StartedAt: 2025-10-07 06:23:54 -0000 (Tue, 07 Oct 2025) EndedAt: 2025-10-07 06:31:58 -0000 (Tue, 07 Oct 2025) EllapsedTime: 483.7 seconds RetCode: 0 Status: OK CheckDir: annotatr.Rcheck Warnings: 0