Package: annotationTools Version: 1.82.0 Maintainer: Alexandre Kuhn MaintainerEmail: alexandre.m.kuhn at gmail.com git_url: https://git.bioconductor.org/packages/annotationTools git_branch: RELEASE_3_21 git_last_commit: 7bdab3c git_last_commit_date: 2025-04-15 09:39:54 -0400 (Tue, 15 Apr 2025)