Package: annotate Version: 1.88.0 Command: /home/biocbuild/R/R/bin/R CMD INSTALL annotate StartedAt: 2025-11-10 21:33:55 -0000 (Mon, 10 Nov 2025) EndedAt: 2025-11-10 21:34:17 -0000 (Mon, 10 Nov 2025) EllapsedTime: 22.2 seconds RetCode: 0 Status: OK