Package: annotate Version: 1.88.0 Command: /home/biocbuild/R/R/bin/R CMD check --install=check:annotate.install-out.txt --library=/home/biocbuild/R/R/site-library --no-vignettes --timings annotate_1.88.0.tar.gz StartedAt: 2025-11-11 06:57:34 -0000 (Tue, 11 Nov 2025) EndedAt: 2025-11-11 07:01:32 -0000 (Tue, 11 Nov 2025) EllapsedTime: 237.5 seconds RetCode: 1 Status: ERROR CheckDir: annotate.Rcheck Warnings: NA