Package: annotate Version: 1.88.0 Command: /home/biocbuild/bbs-3.22-bioc/R/bin/R CMD build --keep-empty-dirs --no-resave-data --md5 annotate StartedAt: 2025-11-11 16:16:31 -0500 (Tue, 11 Nov 2025) EndedAt: 2025-11-11 16:17:37 -0500 (Tue, 11 Nov 2025) EllapsedTime: 66.1 seconds RetCode: 0 Status: OK PackageFile: annotate_1.88.0.tar.gz PackageFileSize: 1.79 MiB