Package: annotate Version: 1.88.0 Command: /Library/Frameworks/R.framework/Resources/bin/R CMD check --install=check:annotate.install-out.txt --library=/Library/Frameworks/R.framework/Resources/library --no-vignettes --timings annotate_1.88.0.tar.gz StartedAt: 2025-10-30 19:20:12 -0400 (Thu, 30 Oct 2025) EndedAt: 2025-10-30 19:23:35 -0400 (Thu, 30 Oct 2025) EllapsedTime: 203.0 seconds RetCode: 0 Status: OK CheckDir: annotate.Rcheck Warnings: 0