Package: anndataR Version: 1.0.0 Command: /home/biocbuild/R/R/bin/R CMD INSTALL anndataR StartedAt: 2025-11-24 21:15:49 -0000 (Mon, 24 Nov 2025) EndedAt: 2025-11-24 21:16:16 -0000 (Mon, 24 Nov 2025) EllapsedTime: 27.2 seconds RetCode: 0 Status: OK