Package: anndataR Version: 1.0.0 Command: /home/biocbuild/bbs-3.22-bioc/R/bin/R CMD check --install=check:anndataR.install-out.txt --library=/home/biocbuild/bbs-3.22-bioc/R/site-library --timings anndataR_1.0.0.tar.gz StartedAt: 2025-11-13 21:08:27 -0500 (Thu, 13 Nov 2025) EndedAt: 2025-11-13 21:21:49 -0500 (Thu, 13 Nov 2025) EllapsedTime: 802.4 seconds RetCode: 0 Status: OK CheckDir: anndataR.Rcheck Warnings: 0