Package: anndataR Version: 1.0.0 Command: /home/biocbuild/bbs-3.22-bioc/R/bin/R CMD build --keep-empty-dirs --no-resave-data --md5 anndataR StartedAt: 2025-11-11 16:16:19 -0500 (Tue, 11 Nov 2025) EndedAt: 2025-11-11 16:18:48 -0500 (Tue, 11 Nov 2025) EllapsedTime: 149.1 seconds RetCode: 0 Status: OK PackageFile: anndataR_1.0.0.tar.gz PackageFileSize: 2.1 MiB