Package: anndataR Version: 1.0.0 Command: rm -rf anndataR.buildbin-libdir && mkdir anndataR.buildbin-libdir && /Users/biocbuild/BBS/utils/build-universal.sh anndataR_1.0.0.tar.gz /Library/Frameworks/R.framework/Resources/bin/R anndataR.buildbin-libdir StartedAt: 2025-11-04 01:27:34 -0500 (Tue, 04 Nov 2025) EndedAt: 2025-11-04 01:27:50 -0500 (Tue, 04 Nov 2025) EllapsedTime: 16.3 seconds RetCode: 0 Status: OK PackageFile: anndataR_1.0.0.tgz PackageFileSize: 2.429 MiB