Package: animalcules Version: 1.26.0 Command: /home/biocbuild/bbs-3.22-bioc/R/bin/R CMD INSTALL animalcules StartedAt: 2025-11-03 15:23:02 -0500 (Mon, 03 Nov 2025) EndedAt: 2025-11-03 15:23:36 -0500 (Mon, 03 Nov 2025) EllapsedTime: 33.9 seconds RetCode: 0 Status: OK