Package: anglemania Version: 1.0.0 Command: /home/biocbuild/bbs-3.22-bioc/R/bin/R CMD INSTALL anglemania StartedAt: 2025-11-13 15:22:13 -0500 (Thu, 13 Nov 2025) EndedAt: 2025-11-13 15:22:45 -0500 (Thu, 13 Nov 2025) EllapsedTime: 32.8 seconds RetCode: 0 Status: OK