Package: anglemania Version: 1.0.0 Command: /home/biocbuild/bbs-3.22-bioc/R/bin/R CMD build --keep-empty-dirs --no-resave-data --md5 anglemania StartedAt: 2025-11-13 16:13:23 -0500 (Thu, 13 Nov 2025) EndedAt: 2025-11-13 16:24:53 -0500 (Thu, 13 Nov 2025) EllapsedTime: 689.6 seconds RetCode: 0 Status: OK PackageFile: anglemania_1.0.0.tar.gz PackageFileSize: 6.814 MiB