Package: anansi Version: 1.0.0 Command: /home/biocbuild/bbs-3.22-bioc/R/bin/R CMD build --keep-empty-dirs --no-resave-data --md5 anansi StartedAt: 2025-11-11 16:15:52 -0500 (Tue, 11 Nov 2025) EndedAt: 2025-11-11 16:17:05 -0500 (Tue, 11 Nov 2025) EllapsedTime: 73.1 seconds RetCode: 0 Status: OK PackageFile: anansi_1.0.0.tar.gz PackageFileSize: 4.248 MiB