Package: anansi Version: 1.0.0 Command: /Library/Frameworks/R.framework/Resources/bin/R CMD INSTALL anansi StartedAt: 2025-11-10 15:15:23 -0500 (Mon, 10 Nov 2025) EndedAt: 2025-11-10 15:15:37 -0500 (Mon, 10 Nov 2025) EllapsedTime: 13.9 seconds RetCode: 0 Status: OK