Package: anansi Version: 1.0.0 Command: /Library/Frameworks/R.framework/Resources/bin/R CMD build --keep-empty-dirs --no-resave-data anansi StartedAt: 2025-11-10 15:37:08 -0500 (Mon, 10 Nov 2025) EndedAt: 2025-11-10 15:37:37 -0500 (Mon, 10 Nov 2025) EllapsedTime: 29.4 seconds RetCode: 0 Status: OK PackageFile: anansi_1.0.0.tar.gz PackageFileSize: 4.359 MiB