Package: anansi Version: 1.0.0 Command: rm -rf anansi.buildbin-libdir && mkdir anansi.buildbin-libdir && /Users/biocbuild/BBS/utils/build-universal.sh anansi_1.0.0.tar.gz /Library/Frameworks/R.framework/Resources/bin/R anansi.buildbin-libdir StartedAt: 2025-11-10 23:11:04 -0500 (Mon, 10 Nov 2025) EndedAt: 2025-11-10 23:11:20 -0500 (Mon, 10 Nov 2025) EllapsedTime: 16.4 seconds RetCode: 0 Status: OK PackageFile: anansi_1.0.0.tgz PackageFileSize: 4.92 MiB