Package: amplican Version: 1.32.0 Command: /Library/Frameworks/R.framework/Resources/bin/R CMD INSTALL amplican StartedAt: 2025-11-10 15:35:13 -0500 (Mon, 10 Nov 2025) EndedAt: 2025-11-10 15:35:13 -0500 (Mon, 10 Nov 2025) EllapsedTime: 0.1 seconds RetCode: 1 Status: ERROR