Package: altcdfenvs Version: 2.72.0 Command: /home/biocbuild/bbs-3.22-bioc/R/bin/R CMD INSTALL altcdfenvs StartedAt: 2025-11-11 15:19:42 -0500 (Tue, 11 Nov 2025) EndedAt: 2025-11-11 15:19:56 -0500 (Tue, 11 Nov 2025) EllapsedTime: 13.1 seconds RetCode: 0 Status: OK