Package: altcdfenvs Version: 2.70.0 Command: /home/biocbuild/R/R/bin/R CMD build --keep-empty-dirs --no-resave-data altcdfenvs StartedAt: 2025-10-13 22:32:18 -0000 (Mon, 13 Oct 2025) EndedAt: 2025-10-13 22:33:21 -0000 (Mon, 13 Oct 2025) EllapsedTime: 63.0 seconds RetCode: 0 Status: OK PackageFile: altcdfenvs_2.70.0.tar.gz PackageFileSize: 648.8 KiB