Package: altcdfenvs Version: 2.72.0 Command: /Library/Frameworks/R.framework/Resources/bin/R CMD INSTALL altcdfenvs StartedAt: 2025-11-02 15:08:07 -0500 (Sun, 02 Nov 2025) EndedAt: 2025-11-02 15:08:13 -0500 (Sun, 02 Nov 2025) EllapsedTime: 5.8 seconds RetCode: 0 Status: OK