Package: alevinQC Version: 1.26.0 Command: /home/biocbuild/bbs-3.22-bioc/R/bin/R CMD build --keep-empty-dirs --no-resave-data --md5 alevinQC StartedAt: 2025-11-13 16:12:35 -0500 (Thu, 13 Nov 2025) EndedAt: 2025-11-13 16:13:14 -0500 (Thu, 13 Nov 2025) EllapsedTime: 39.1 seconds RetCode: 0 Status: OK PackageFile: alevinQC_1.26.0.tar.gz PackageFileSize: 7.553 MiB