Package: alabaster Version: 1.10.0 Command: /home/biocbuild/bbs-3.22-bioc/R/bin/R CMD INSTALL alabaster StartedAt: 2025-11-02 16:14:55 -0500 (Sun, 02 Nov 2025) EndedAt: 2025-11-02 16:15:45 -0500 (Sun, 02 Nov 2025) EllapsedTime: 49.5 seconds RetCode: 0 Status: OK