Package: alabaster Version: 1.10.0 Command: /home/biocbuild/bbs-3.22-bioc/R/bin/R CMD build --keep-empty-dirs --no-resave-data --md5 alabaster StartedAt: 2025-11-02 16:25:29 -0500 (Sun, 02 Nov 2025) EndedAt: 2025-11-02 16:26:18 -0500 (Sun, 02 Nov 2025) EllapsedTime: 49.0 seconds RetCode: 0 Status: OK PackageFile: alabaster_1.10.0.tar.gz PackageFileSize: 216 KiB