Package: alabaster.string Version: 1.10.0 Command: /home/biocbuild/R/R/bin/R CMD build --keep-empty-dirs --no-resave-data alabaster.string StartedAt: 2025-11-10 23:23:21 -0000 (Mon, 10 Nov 2025) EndedAt: 2025-11-10 23:23:43 -0000 (Mon, 10 Nov 2025) EllapsedTime: 22.0 seconds RetCode: 0 Status: OK PackageFile: alabaster.string_1.10.0.tar.gz PackageFileSize: 244.2 KiB