Package: alabaster.string Version: 1.10.0 Command: /home/biocbuild/bbs-3.22-bioc/R/bin/R CMD INSTALL alabaster.string StartedAt: 2025-11-11 16:02:52 -0500 (Tue, 11 Nov 2025) EndedAt: 2025-11-11 16:03:04 -0500 (Tue, 11 Nov 2025) EllapsedTime: 12.0 seconds RetCode: 0 Status: OK