Package: alabaster.string Version: 1.8.0 Command: /Library/Frameworks/R.framework/Resources/bin/R CMD build --keep-empty-dirs --no-resave-data alabaster.string StartedAt: 2025-10-13 17:01:12 -0400 (Mon, 13 Oct 2025) EndedAt: 2025-10-13 17:01:49 -0400 (Mon, 13 Oct 2025) EllapsedTime: 37.5 seconds RetCode: 0 Status: OK PackageFile: alabaster.string_1.8.0.tar.gz PackageFileSize: 220.2 KiB