Package: alabaster.string Version: 1.8.0 Command: rm -rf alabaster.string.buildbin-libdir && mkdir alabaster.string.buildbin-libdir && /Users/biocbuild/BBS/utils/build-universal.sh alabaster.string_1.8.0.tar.gz /Library/Frameworks/R.framework/Resources/bin/R alabaster.string.buildbin-libdir StartedAt: 2025-10-14 12:49:07 -0400 (Tue, 14 Oct 2025) EndedAt: 2025-10-14 12:49:35 -0400 (Tue, 14 Oct 2025) EllapsedTime: 28.0 seconds RetCode: 0 Status: OK PackageFile: alabaster.string_1.8.0.tgz PackageFileSize: 277.5 KiB