Package: alabaster.spatial Version: 1.10.0 Command: /home/biocbuild/R/R/bin/R CMD INSTALL alabaster.spatial StartedAt: 2025-11-10 21:46:57 -0000 (Mon, 10 Nov 2025) EndedAt: 2025-11-10 21:47:36 -0000 (Mon, 10 Nov 2025) EllapsedTime: 39.4 seconds RetCode: 0 Status: OK