Package: alabaster.spatial Version: 1.10.0 Command: /home/biocbuild/R/R/bin/R CMD build --keep-empty-dirs --no-resave-data alabaster.spatial StartedAt: 2025-11-10 23:23:20 -0000 (Mon, 10 Nov 2025) EndedAt: 2025-11-10 23:24:17 -0000 (Mon, 10 Nov 2025) EllapsedTime: 57.0 seconds RetCode: 0 Status: OK PackageFile: alabaster.spatial_1.10.0.tar.gz PackageFileSize: 500.1 KiB