Package: alabaster.spatial Version: 1.10.0 Command: /home/biocbuild/bbs-3.22-bioc/R/bin/R CMD INSTALL alabaster.spatial StartedAt: 2025-11-11 15:41:40 -0500 (Tue, 11 Nov 2025) EndedAt: 2025-11-11 15:42:10 -0500 (Tue, 11 Nov 2025) EllapsedTime: 29.5 seconds RetCode: 0 Status: OK