Package: alabaster.spatial Version: 1.10.0 Command: /home/biocbuild/bbs-3.22-bioc/R/bin/R CMD check --install=check:alabaster.spatial.install-out.txt --library=/home/biocbuild/bbs-3.22-bioc/R/site-library --timings alabaster.spatial_1.10.0.tar.gz StartedAt: 2025-11-11 21:06:55 -0500 (Tue, 11 Nov 2025) EndedAt: 2025-11-11 21:10:46 -0500 (Tue, 11 Nov 2025) EllapsedTime: 231.2 seconds RetCode: 0 Status: OK CheckDir: alabaster.spatial.Rcheck Warnings: 0