Package: alabaster.spatial Version: 1.10.0 Command: /home/biocbuild/bbs-3.22-bioc/R/bin/R CMD build --keep-empty-dirs --no-resave-data --md5 alabaster.spatial StartedAt: 2025-11-11 16:15:09 -0500 (Tue, 11 Nov 2025) EndedAt: 2025-11-11 16:15:53 -0500 (Tue, 11 Nov 2025) EllapsedTime: 44.0 seconds RetCode: 0 Status: OK PackageFile: alabaster.spatial_1.10.0.tar.gz PackageFileSize: 629.3 KiB