Package: alabaster.spatial Version: 1.8.0 Command: /Library/Frameworks/R.framework/Resources/bin/R CMD INSTALL alabaster.spatial StartedAt: 2025-10-13 16:08:51 -0400 (Mon, 13 Oct 2025) EndedAt: 2025-10-13 16:09:55 -0400 (Mon, 13 Oct 2025) EllapsedTime: 64.1 seconds RetCode: 0 Status: OK