Package: alabaster.spatial Version: 1.8.0 Command: /Library/Frameworks/R.framework/Resources/bin/R CMD build --keep-empty-dirs --no-resave-data alabaster.spatial StartedAt: 2025-10-13 17:01:07 -0400 (Mon, 13 Oct 2025) EndedAt: 2025-10-13 17:02:40 -0400 (Mon, 13 Oct 2025) EllapsedTime: 92.2 seconds RetCode: 0 Status: OK PackageFile: alabaster.spatial_1.8.0.tar.gz PackageFileSize: 739.1 KiB