Package: alabaster.sfe Version: 1.2.0 Command: /home/biocbuild/bbs-3.22-bioc/R/bin/R CMD INSTALL alabaster.sfe StartedAt: 2025-11-11 15:42:36 -0500 (Tue, 11 Nov 2025) EndedAt: 2025-11-11 15:43:27 -0500 (Tue, 11 Nov 2025) EllapsedTime: 51.1 seconds RetCode: 0 Status: OK