Package: alabaster.sfe Version: 1.0.0 Command: /home/biocbuild/R/R/bin/R CMD INSTALL alabaster.sfe StartedAt: 2025-10-13 20:57:46 -0000 (Mon, 13 Oct 2025) EndedAt: 2025-10-13 20:59:01 -0000 (Mon, 13 Oct 2025) EllapsedTime: 75.5 seconds RetCode: 0 Status: OK