Package: alabaster.sfe Version: 1.0.0 Command: /home/biocbuild/R/R/bin/R CMD build --keep-empty-dirs --no-resave-data alabaster.sfe StartedAt: 2025-10-13 22:31:48 -0000 (Mon, 13 Oct 2025) EndedAt: 2025-10-13 23:07:14 -0000 (Mon, 13 Oct 2025) EllapsedTime: 2125.5 seconds RetCode: 0 Status: OK PackageFile: alabaster.sfe_1.0.0.tar.gz PackageFileSize: 2.762 MiB