Package: alabaster.sfe Version: 1.2.0 Command: /Library/Frameworks/R.framework/Resources/bin/R CMD INSTALL alabaster.sfe StartedAt: 2025-11-10 15:17:07 -0500 (Mon, 10 Nov 2025) EndedAt: 2025-11-10 15:17:27 -0500 (Mon, 10 Nov 2025) EllapsedTime: 20.2 seconds RetCode: 0 Status: OK