Package: alabaster.sfe Version: 1.2.0 Command: /Library/Frameworks/R.framework/Resources/bin/R CMD build --keep-empty-dirs --no-resave-data alabaster.sfe StartedAt: 2025-11-10 15:36:41 -0500 (Mon, 10 Nov 2025) EndedAt: 2025-11-10 15:37:34 -0500 (Mon, 10 Nov 2025) EllapsedTime: 52.6 seconds RetCode: 0 Status: OK PackageFile: alabaster.sfe_1.2.0.tar.gz PackageFileSize: 3.87 MiB