Package: alabaster.schemas Version: 1.10.0 Command: /home/biocbuild/bbs-3.22-bioc/R/bin/R CMD check --install=check:alabaster.schemas.install-out.txt --library=/home/biocbuild/bbs-3.22-bioc/R/site-library --timings alabaster.schemas_1.10.0.tar.gz StartedAt: 2025-11-13 21:04:58 -0500 (Thu, 13 Nov 2025) EndedAt: 2025-11-13 21:05:10 -0500 (Thu, 13 Nov 2025) EllapsedTime: 12.0 seconds RetCode: 0 Status: OK CheckDir: alabaster.schemas.Rcheck Warnings: 0