Package: alabaster.schemas Version: 1.10.0 Command: /Library/Frameworks/R.framework/Resources/bin/R CMD INSTALL alabaster.schemas StartedAt: 2025-11-03 15:09:59 -0500 (Mon, 03 Nov 2025) EndedAt: 2025-11-03 15:10:42 -0500 (Mon, 03 Nov 2025) EllapsedTime: 42.2 seconds RetCode: 0 Status: OK