Package: alabaster.schemas Version: 1.8.0 Command: /home/biocbuild/R/R/bin/R CMD INSTALL alabaster.schemas StartedAt: 2025-10-09 20:14:06 -0000 (Thu, 09 Oct 2025) EndedAt: 2025-10-09 20:14:24 -0000 (Thu, 09 Oct 2025) EllapsedTime: 17.8 seconds RetCode: 0 Status: OK