Package: alabaster.schemas Version: 1.8.0 Command: /home/biocbuild/R/R/bin/R CMD build --keep-empty-dirs --no-resave-data alabaster.schemas StartedAt: 2025-10-09 22:31:38 -0000 (Thu, 09 Oct 2025) EndedAt: 2025-10-09 22:31:43 -0000 (Thu, 09 Oct 2025) EllapsedTime: 5.0 seconds RetCode: 0 Status: OK PackageFile: alabaster.schemas_1.8.0.tar.gz PackageFileSize: 263.7 KiB