Package: alabaster.sce Version: 1.10.0 Command: /Library/Frameworks/R.framework/Resources/bin/R CMD INSTALL alabaster.sce StartedAt: 2025-11-10 15:12:46 -0500 (Mon, 10 Nov 2025) EndedAt: 2025-11-10 15:12:57 -0500 (Mon, 10 Nov 2025) EllapsedTime: 11.1 seconds RetCode: 0 Status: OK