Package: alabaster.sce Version: 1.10.0 Command: /Library/Frameworks/R.framework/Resources/bin/R CMD build --keep-empty-dirs --no-resave-data alabaster.sce StartedAt: 2025-11-10 15:36:37 -0500 (Mon, 10 Nov 2025) EndedAt: 2025-11-10 15:36:53 -0500 (Mon, 10 Nov 2025) EllapsedTime: 15.2 seconds RetCode: 0 Status: OK PackageFile: alabaster.sce_1.10.0.tar.gz PackageFileSize: 220.2 KiB