Package: alabaster.ranges Version: 1.10.0 Command: /home/biocbuild/bbs-3.22-bioc/R/bin/R CMD INSTALL alabaster.ranges StartedAt: 2025-11-11 15:19:38 -0500 (Tue, 11 Nov 2025) EndedAt: 2025-11-11 15:19:48 -0500 (Tue, 11 Nov 2025) EllapsedTime: 10.0 seconds RetCode: 0 Status: OK